BEGIN:VCALENDAR
VERSION:2.0
PRODID:-//Millennium Quilters - ECPv6.15.15//NONSGML v1.0//EN
CALSCALE:GREGORIAN
METHOD:PUBLISH
X-WR-CALNAME:Millennium Quilters
X-ORIGINAL-URL:https://millenniumquilters.org
X-WR-CALDESC:Events for Millennium Quilters
REFRESH-INTERVAL;VALUE=DURATION:PT1H
X-Robots-Tag:noindex
X-PUBLISHED-TTL:PT1H
BEGIN:VTIMEZONE
TZID:America/New_York
BEGIN:DAYLIGHT
TZOFFSETFROM:-0500
TZOFFSETTO:-0400
TZNAME:EDT
DTSTART:20250309T070000
END:DAYLIGHT
BEGIN:STANDARD
TZOFFSETFROM:-0400
TZOFFSETTO:-0500
TZNAME:EST
DTSTART:20251102T060000
END:STANDARD
BEGIN:DAYLIGHT
TZOFFSETFROM:-0500
TZOFFSETTO:-0400
TZNAME:EDT
DTSTART:20260308T070000
END:DAYLIGHT
BEGIN:STANDARD
TZOFFSETFROM:-0400
TZOFFSETTO:-0500
TZNAME:EST
DTSTART:20261101T060000
END:STANDARD
BEGIN:DAYLIGHT
TZOFFSETFROM:-0500
TZOFFSETTO:-0400
TZNAME:EDT
DTSTART:20270314T070000
END:DAYLIGHT
BEGIN:STANDARD
TZOFFSETFROM:-0400
TZOFFSETTO:-0500
TZNAME:EST
DTSTART:20271107T060000
END:STANDARD
END:VTIMEZONE
BEGIN:VEVENT
DTSTART;TZID=America/New_York:20260427T183000
DTEND;TZID=America/New_York:20260427T200000
DTSTAMP:20260419T101244
CREATED:20260108T155732Z
LAST-MODIFIED:20260108T155732Z
UID:2703-1777314600-1777320000@millenniumquilters.org
SUMMARY:Guild Meeting
DESCRIPTION:
URL:https://millenniumquilters.org/event/guild-meeting-5/
LOCATION:Benedum Center\, 164 W. Main St.\, Bridgeport\, West Virginia\, 26330
END:VEVENT
BEGIN:VEVENT
DTSTART;TZID=America/New_York:20260427T183000
DTEND;TZID=America/New_York:20260427T200000
DTSTAMP:20260419T101244
CREATED:20260109T221709Z
LAST-MODIFIED:20260109T221709Z
UID:2708-1777314600-1777320000@millenniumquilters.org
SUMMARY:Guild Meeting
DESCRIPTION:
URL:https://millenniumquilters.org/event/guild-meeting-9/
LOCATION:Benedum Center\, 164 W. Main St.\, Bridgeport\, West Virginia\, 26330
END:VEVENT
BEGIN:VEVENT
DTSTART;TZID=America/New_York:20260427T183000
DTEND;TZID=America/New_York:20260427T200000
DTSTAMP:20260419T101244
CREATED:20260323T192035Z
LAST-MODIFIED:20260323T192035Z
UID:2728-1777314600-1777320000@millenniumquilters.org
SUMMARY:Guild Meeting
DESCRIPTION:
URL:https://millenniumquilters.org/event/guild-meeting-6/
LOCATION:Benedum Center\, 164 W. Main St.\, Bridgeport\, West Virginia\, 26330
END:VEVENT
END:VCALENDAR